BEGIN:VCALENDAR
VERSION:2.0
PRODID:-//Contratero//ES
CALSCALE:GREGORIAN
METHOD:PUBLISH
BEGIN:VEVENT
UID:T-SER 20/17.102022@contratero.es
DTSTAMP:20260423T103324Z
DTSTART:20221117T235959
DTEND:20221118T005959
SUMMARY:Cierre: La prestación de los siguientes servicios:\n\na) Man
DESCRIPTION:La prestación de los siguientes servicios:\n\na) Mantenimiento preventivo (asistencia técnica)\, correctivo (asistencia técnica) y evolutivo (desarrollo de mejoras y nuevas funcionalidades) de las difere...\\n\\nOrganismo: Gerencia de Transportes Interurbanos de Tenerife S.A.U.\\n\\nVer en Contratero: https://contratero.es/contracts/T-SER 20/17.102022
URL:https://contratero.es/contracts/T-SER 20/17.102022
STATUS:CONFIRMED
BEGIN:VALARM
TRIGGER:-P1D
ACTION:DISPLAY
DESCRIPTION:Recordatorio: La prestación de los siguiente
END:VALARM
END:VEVENT
END:VCALENDAR